BEGIN:VCALENDAR
VERSION:2.0
PRODID:-//Tukios.com/
BEGIN:VEVENT
UID:fc8bb2c9-653e-4b54-a630-d805369a79a3@www.clearpathcremations.com
DTSTAMP:20260422T210129Z
DTSTART:20260427T200000Z
DTEND:20260427T220000Z
SUMMARY:Viewing
DESCRIPTION:
URL:https://www.clearpathcremations.com/obituaries/ryan-lucas
LOCATION: 711 Dickey Rd  Grand Prairie TX 75051
GEO:32.7284334;-97.0159463
END:VEVENT
END:VCALENDAR