BEGIN:VCALENDAR
VERSION:2.0
PRODID:-//Tukios.com/
BEGIN:VEVENT
UID:4acd675e-dabd-4b08-a0ce-94d1948ed768@www.clearpathcremations.com
DTSTAMP:20260422T210609Z
DTSTART:20260427T220000Z
DTEND:20260427T230000Z
SUMMARY:Celebration of Life
DESCRIPTION:
URL:https://www.clearpathcremations.com/obituaries/ryan-lucas
LOCATION: 711 Dickey Rd  Grand Prairie TX 75051
GEO:32.7284334;-97.0159463
END:VEVENT
END:VCALENDAR